BEGIN:VCALENDAR
VERSION:2.0
PRODID:-//ChamberMaster//Event Calendar 2.0//EN
METHOD:PUBLISH
X-PUBLISHED-TTL:P3D
REFRESH-INTERVAL:P3D
CALSCALE:GREGORIAN
BEGIN:VEVENT
DTSTART:20130320T010000Z
DTEND:20130320T030000Z
X-MICROSOFT-CDO-ALLDAYEVENT:FALSE
SUMMARY:Letter Bee
DESCRIPTION:Enter your Team of Spellers and compete for prizes for your favorite causes in the County.  Costumes and Creativity are encouraged in this fun and humorous event.  Proceeds to benefit Rotary Community activities\; Up to $250 to the school of the winning school team\, up to $250 to winning non-school team's charity of choice.  For info call Kathleen Bennett at 541-426-4208.  Entry deadline:  March 1\, 2013
X-ALT-DESC;FMTTYPE=text/html:<div style="color: gray">\n	<span style="text-decoration: none\; text-underline: none"><span style="font-family: arial\, sans-serif"><span style="font-size: medium">Enter your Team of Spellers and compete for prizes for your favorite causes in the County.&nbsp\; Costumes and Creativity are encouraged in this fun and humorous event.&nbsp\; Proceeds to benefit Rotary Community activities\; Up to $250 to the school of the winning school team\, up to $250 to winning non-school team&#39\;s charity of choice.&nbsp\; For info call Kathleen Bennett at 541-426-4208.&nbsp\; <strong>Entry deadline:&nbsp\; March 1\, 2013&nbsp\;</strong></span></span></span><br />\n	&nbsp\;</div>\n
LOCATION:105 NE 1st St.\, Odd Fellows Hall\, Enterprise
UID:e.1631.541
SEQUENCE:3
DTSTAMP:20260419T184032Z
URL:https://business.wallowacountychamber.com/events/details/letter-bee-03-19-2013-541
END:VEVENT

END:VCALENDAR
