BEGIN:VCALENDAR
VERSION:2.0
PRODID:-//ChamberMaster//Event Calendar 2.0//EN
METHOD:PUBLISH
X-PUBLISHED-TTL:P3D
REFRESH-INTERVAL:P3D
CALSCALE:GREGORIAN
BEGIN:VEVENT
DTSTART:20130504T160000Z
DTEND:20130506T020000Z
X-MICROSOFT-CDO-ALLDAYEVENT:FALSE
SUMMARY:Lee Scott Memorial Plowing Bee
DESCRIPTION:The Plowing Bee is held each Year east of Joseph.  Come and watch the different horse teams plow their way across the field.
X-ALT-DESC;FMTTYPE=text/html:The Plowing Bee is held each Year east of Joseph.&nbsp\; Come and watch the different horse teams plow their way across the field.
LOCATION:The event is held east of Joseph on 86186 Bird Lane
UID:e.1631.91
SEQUENCE:3
DTSTAMP:20260419T152453Z
URL:https://business.wallowacountychamber.com/events/details/lee-scott-memorial-plowing-bee-05-04-2013-91
END:VEVENT

END:VCALENDAR
