BEGIN:VCALENDAR
VERSION:2.0
PRODID:-//ChamberMaster//Event Calendar 2.0//EN
METHOD:PUBLISH
X-PUBLISHED-TTL:P3D
REFRESH-INTERVAL:P3D
CALSCALE:GREGORIAN
BEGIN:VEVENT
DTSTART:20130215T020000Z
DTEND:20130215T050000Z
X-MICROSOFT-CDO-ALLDAYEVENT:FALSE
SUMMARY:Lear's Main St. Grill Valentine's Dinner with Jonathan Kingham
DESCRIPTION:Jonathan Kingham from Nashville Tennessee will rock the house with Ryan Shea Smith.  Jonathan is well known in the land of music and the place should be packed.  Reservations are strongly recommended because there is limited seating.  In addition to the concert\, Lear's is bringing back the Two For One Dinner.   Now is the time to dazzle your " Sweetie" at Lear's for Valentine's Day.  Doors open at 6:00pm and the concert begins at 7:00pm.  Call: 541-426-3300 for reservations.
X-ALT-DESC;FMTTYPE=text/html:<div style="color: gray">\n	<span style="text-decoration: none\; text-underline: none"><span style="font-family: arial\, sans-serif"><span style="font-size: medium">Jonathan Kingham from Nashville Tennessee will rock the house with Ryan Shea Smith.&nbsp\; Jonathan is well known in the land of music and the place should be packed.&nbsp\; Reservations are strongly recommended because there is limited seating.&nbsp\; In addition to the concert\, Lear&rsquo\;s is bringing back the Two For One Dinner.&nbsp\;&nbsp\; Now is the time to dazzle your &ldquo\; Sweetie&rdquo\; at Lear&rsquo\;s for Valentine&#39\;s Day.&nbsp\; Doors open at 6:00pm and the concert begins at 7:00pm.&nbsp\; Call: 541-426-3300 for reservations.&nbsp\;</span></span></span><br />\n	&nbsp\;</div>\n
LOCATION:111 W. Main St.\, Enterprise
UID:e.1631.543
SEQUENCE:3
DTSTAMP:20260419T202948Z
URL:https://business.wallowacountychamber.com/events/details/lear-s-main-st-grill-valentine-s-dinner-with-jonathan-kingham-02-14-2013-543
END:VEVENT

END:VCALENDAR
