BEGIN:VCALENDAR
VERSION:2.0
PRODID:-//ChamberMaster//Event Calendar 2.0//EN
METHOD:PUBLISH
X-PUBLISHED-TTL:P3D
REFRESH-INTERVAL:P3D
CALSCALE:GREGORIAN
BEGIN:VEVENT
DTSTART;VALUE=DATE:20130706
DTEND;VALUE=DATE:20130707
TRANSP:TRANSPARENT
X-MICROSOFT-CDO-ALLDAYEVENT:TRUE
SUMMARY:Joseph Mountain Music Festival
DESCRIPTION:Joseph festival featuring local and regional bluegrass\, country\, celtic\, folk mostly stringed music. featuring local\, regional and national mostly bands.
X-ALT-DESC;FMTTYPE=text/html:Joseph festival featuring local and regional bluegrass\, country\, celtic\, folk mostly stringed music. featuring local\, regional and national mostly bands.
LOCATION:Various locations on Main St. and on Lake St. in Joseph
UID:e.1631.85
SEQUENCE:3
DTSTAMP:20260419T135520Z
URL:https://business.wallowacountychamber.com/events/details/joseph-mountain-music-festival-07-06-2013-85
END:VEVENT

END:VCALENDAR
