BEGIN:VCALENDAR
VERSION:2.0
PRODID:-//ChamberMaster//Event Calendar 2.0//EN
METHOD:PUBLISH
X-PUBLISHED-TTL:P3D
REFRESH-INTERVAL:P3D
CALSCALE:GREGORIAN
BEGIN:VEVENT
DTSTART:20130209T020000Z
DTEND:20130210T020000Z
X-MICROSOFT-CDO-ALLDAYEVENT:FALSE
SUMMARY:Joseph High School Thespians Presents "Cupid's Crime"
DESCRIPTION:For the seventeenth year\, the Joseph High School Thespians are preparing for their annual Murder Mystery Dinner Theater at Wallowa Lake Lodge.  This winter event promises good food and an entertaining evening.  "Cupid's Crime" will be presented February 8-9.  Reservations are required and may be made by calling the Lodge directly at 541-432-9821.  Valentine's Day Packages which include a room\, dinner\, the show and breakfast are available.  The setting for "Cupid's Crime" is the Alpine Resort where guests are gathering for the annual Romance and Adventure Writer's Convention.  For more information\, please contact Pam Latta\, Joseph Charter School Drama Advisor at the school 541-432-7311 or at home 541-432-7130. \n\n	Click here to edit...
X-ALT-DESC;FMTTYPE=text/html:<div style="color: gray\;">\n	<span style="text-decoration: none\; text-underline: none\;"><span style="font-family: arial\, sans-serif\;"><span style="font-size: medium\;">For the seventeenth year\, the Joseph High School Thespians are preparing for their annual Murder Mystery Dinner Theater at Wallowa Lake Lodge.&nbsp\; This winter event promises good food and an entertaining evening.&nbsp\; &quot\;Cupid&#39\;s Crime&quot\; will be presented February 8-9.&nbsp\; Reservations are required and may be made by calling the Lodge directly at 541-432-9821.&nbsp\; Valentine&#39\;s Day Packages which include a room\, dinner\, the show and breakfast are available.&nbsp\; The setting for &quot\;Cupid&#39\;s Crime&quot\; is the Alpine Resort where guests are gathering for the annual Romance and Adventure Writer&#39\;s Convention.&nbsp\; For more information\, please contact Pam Latta\, Joseph Charter School Drama Advisor at the school 541-432-7311 or at home 541-432-7130.</span><u><span style="font-size: medium\;"><span style="color: rgb(0\, 0\, 255)\;">&nbsp\;</span></span></u></span></span><br />\n	Click here to edit...</div>\n
LOCATION:Wallowa Lake Lodge\, 60060 Wallowa Lake Hwy.
UID:e.1631.337
SEQUENCE:3
DTSTAMP:20260419T203837Z
URL:https://business.wallowacountychamber.com/events/details/joseph-high-school-thespians-presents-cupid-s-crime-02-08-2013-337
END:VEVENT

END:VCALENDAR
