BEGIN:VCALENDAR
VERSION:2.0
PRODID:-//ChamberMaster//Event Calendar 2.0//EN
METHOD:PUBLISH
X-PUBLISHED-TTL:P3D
REFRESH-INTERVAL:P3D
CALSCALE:GREGORIAN
BEGIN:VEVENT
DTSTART:20130720T170000Z
DTEND:20130720T210000Z
X-MICROSOFT-CDO-ALLDAYEVENT:FALSE
SUMMARY:Joseph Community Farmers' Market
DESCRIPTION:The Farmers' Market in Joseph is in full swing on Saturday's at Joseph Ave. and Main Street\, from 10am-2pm.\n\n\n\nMusic by the Lindsey Family.
X-ALT-DESC;FMTTYPE=text/html:<font size="3">The Farmers&#39\; Market in Joseph is in full swing on Saturday&#39\;s at Joseph Ave. and Main Street\, from 10am-2pm.</font><br />\n<br />\n<span style="font-size:16px\;">Music by the <strong><em>Lindsey Family</em></strong>. </span>
LOCATION:Joseph Ave. & Main St.\, Joseph
UID:e.1631.4178
SEQUENCE:3
DTSTAMP:20260419T135433Z
URL:https://business.wallowacountychamber.com/events/details/joseph-community-farmers-market-07-20-2013-4178
END:VEVENT

END:VCALENDAR
