BEGIN:VCALENDAR
VERSION:2.0
PRODID:-//ChamberMaster//Event Calendar 2.0//EN
METHOD:PUBLISH
X-PUBLISHED-TTL:P3D
REFRESH-INTERVAL:P3D
CALSCALE:GREGORIAN
BEGIN:VEVENT
DTSTART;VALUE=DATE:20121123
DTEND;VALUE=DATE:20121125
TRANSP:TRANSPARENT
X-MICROSOFT-CDO-ALLDAYEVENT:TRUE
SUMMARY:Jingle thru Joseph Holiday Bazaar
DESCRIPTION:Christmas in Joseph Holiday Bazaar Date: Friday\, November 25\, 2011 To: Saturday\, November 26 Time: Details: A grand variety of gifts\, decorations and greenery\, including fresh Christmas Wreaths and Swags. Venue: Joseph Community Center\, Joseph Oregon Contact: Sally Brandt Tele: 541-432-7780
X-ALT-DESC;FMTTYPE=text/html:Christmas in Joseph Holiday Bazaar Date: Friday\, November 25\, 2011 To: Saturday\, November 26 Time: Details: A grand variety of gifts\, decorations and greenery\, including fresh Christmas Wreaths and Swags. Venue: Joseph Community Center\, Joseph Oregon Contact: Sally Brandt Tele: 541-432-7780
LOCATION:
UID:e.1631.23
SEQUENCE:3
DTSTAMP:20260420T011130Z
URL:https://business.wallowacountychamber.com/events/details/jingle-thru-joseph-holiday-bazaar-11-23-2012-23
END:VEVENT

END:VCALENDAR
