BEGIN:VCALENDAR
VERSION:2.0
PRODID:-//ChamberMaster//Event Calendar 2.0//EN
METHOD:PUBLISH
X-PUBLISHED-TTL:P3D
REFRESH-INTERVAL:P3D
CALSCALE:GREGORIAN
BEGIN:VEVENT
DTSTART;VALUE=DATE:20130323
DTEND;VALUE=DATE:20130324
TRANSP:TRANSPARENT
X-MICROSOFT-CDO-ALLDAYEVENT:TRUE
SUMMARY:Jewelry Making Techniques
DESCRIPTION:Basics of stringing beads and basic design ideas for necklaces\, earrings and bracelets.  Learn ho to attach ear wires and clasps\, using different types of beading pliers and cutters and findings.  Susan Collett\, instructor
X-ALT-DESC;FMTTYPE=text/html:Basics of stringing beads and basic design ideas for necklaces\, earrings and bracelets.&nbsp\; Learn ho to attach ear wires and clasps\, using different types of beading pliers and cutters and findings.&nbsp\; Susan Collett\, instructor
LOCATION:Josephy Center for Arts & Culture\, 403 N.Main St.\, Joseph
UID:e.1631.2383
SEQUENCE:3
DTSTAMP:20260419T184948Z
URL:https://business.wallowacountychamber.com/events/details/jewelry-making-techniques-03-23-2013-2383
END:VEVENT

END:VCALENDAR
