BEGIN:VCALENDAR
VERSION:2.0
PRODID:-//ChamberMaster//Event Calendar 2.0//EN
METHOD:PUBLISH
X-PUBLISHED-TTL:P3D
REFRESH-INTERVAL:P3D
CALSCALE:GREGORIAN
BEGIN:VEVENT
DTSTART:20130504T160000Z
DTEND:20130504T230000Z
X-MICROSOFT-CDO-ALLDAYEVENT:FALSE
SUMMARY:Jewelry Making by Susan Collett
DESCRIPTION:Learn to make earrings\, bracelets\, necklaces from an array of supplied materials and tools\; gain skills in design and creation. Cost: $53\, includes supplies. Susan Collett\, instructor.
X-ALT-DESC;FMTTYPE=text/html:<span style="color:black\;"><span style="font-family:calibri\,sans-serif\;">Learn to make earrings\, bracelets\, necklaces from an array of supplied materials and tools\; gain skills in design and creation. Cost: $53\, includes supplies. Susan Collett\, instructor. </span></span>
LOCATION:Josephy Center for Arts & Culture\, 405 N. Main St.\, Joseph
UID:e.1631.3723
SEQUENCE:3
DTSTAMP:20260419T153927Z
URL:https://business.wallowacountychamber.com/events/details/jewelry-making-by-susan-collett-05-04-2013-3723
END:VEVENT

END:VCALENDAR
