BEGIN:VCALENDAR
VERSION:2.0
PRODID:-//ChamberMaster//Event Calendar 2.0//EN
METHOD:PUBLISH
X-PUBLISHED-TTL:P3D
REFRESH-INTERVAL:P3D
CALSCALE:GREGORIAN
BEGIN:VEVENT
DTSTART:20130719T010000Z
DTEND:20130719T040000Z
X-MICROSOFT-CDO-ALLDAYEVENT:FALSE
SUMMARY:Jamie Nasario Band at Calderas
DESCRIPTION:We are happy to have the Jamie Nasario Band playing in the backyard at Calderas.  Her soul driven voice and bluesy repetoire captures the classic vibe from the 50's and 60's while still maintaining a modern flavor.  Great music\, Great Food\, Wine and Beer!  See you Thursday.
X-ALT-DESC;FMTTYPE=text/html:<span style="font-family:comic sans ms\;">We are happy to have the<em><strong> Jamie Nasario Band</strong></em> playing in the backyard at Calderas.&nbsp\; Her soul driven voice and bluesy repetoire captures the classic vibe from the 50&#39\;s and 60&#39\;s while still maintaining a modern flavor.&nbsp\; Great music\, Great Food\, Wine and Beer!&nbsp\; See you Thursday.</span>
LOCATION:300 N. Lake St.\, Joseph
UID:e.1631.4362
SEQUENCE:3
DTSTAMP:20260419T121351Z
URL:https://business.wallowacountychamber.com/events/details/jamie-nasario-band-at-calderas-07-18-2013-4362
END:VEVENT

END:VCALENDAR
