BEGIN:VCALENDAR
VERSION:2.0
PRODID:-//ChamberMaster//Event Calendar 2.0//EN
METHOD:PUBLISH
X-PUBLISHED-TTL:P3D
REFRESH-INTERVAL:P3D
CALSCALE:GREGORIAN
BEGIN:VEVENT
DTSTART:20130803T160000Z
DTEND:20130803T190000Z
X-MICROSOFT-CDO-ALLDAYEVENT:FALSE
SUMMARY:Into the Wallowa Outing: Confluence of Lostine & Wallowa Rivers
DESCRIPTION:Into The Wallowa Outing. Wallowa Land Trust and landowner Woody Wolfe invite you to visit the land trust's conservation easement on the Wolfe Ranch. Take advantage of this rare opportunity to explore the confluence of the two major rivers in the valley which was a traditional Nez Perce summer camp and hear firsthand from a sixth generation farmer. Moderate hike.
X-ALT-DESC;FMTTYPE=text/html:Into The Wallowa Outing. Wallowa Land Trust and landowner <strong>Woody Wolf</strong>e invite you to visit the land trust&#39\;s conservation easement on the Wolfe Ranch. Take advantage of this rare opportunity to explore the confluence of the two major rivers in the valley which was a traditional Nez Perce summer camp and hear firsthand from a sixth generation farmer. Moderate hike.&nbsp\;
LOCATION:Meet at Wallowa Land Trust?s office (116 South River Street in Enterprise) at 9am.
UID:e.1631.4346
SEQUENCE:3
DTSTAMP:20260419T131842Z
URL:https://business.wallowacountychamber.com/events/details/into-the-wallowa-outing-confluence-of-lostine-wallowa-rivers-08-03-2013-4346
END:VEVENT

END:VCALENDAR
