BEGIN:VCALENDAR
VERSION:2.0
PRODID:-//ChamberMaster//Event Calendar 2.0//EN
METHOD:PUBLISH
X-PUBLISHED-TTL:P3D
REFRESH-INTERVAL:P3D
CALSCALE:GREGORIAN
BEGIN:VEVENT
DTSTART:20130516T020000Z
DTEND:20130516T040000Z
X-MICROSOFT-CDO-ALLDAYEVENT:FALSE
SUMMARY:Internatioanl Ceramic Artists at Jospehy Center Tonight Only
DESCRIPTION:Special Event: International Ceramic Artists at Josephy Center on May 15\n\n           \n\n          A special program featuring three internationally-acclaimed ceramics artists will be held at the Josephy Center for Arts and Culture\, 403 N. Main St.\, Joseph on Wed.\, May 15. \n\n\n\nThe artists will show examples of their works and discuss their creative processes through the "Artist: Live and Up Front" series at the center in collaboration with the nonprofit LH Arts Project near Joseph\, which offers artist in residencies in ceramics. \n\nFeatured artists include Beth Cavener of Washington State\, who creates larger than lifesize animals in dramatic positions to reflect human emotions\; Italian artist Alessandro Gallo who sculpts animal heads on ceramic human bodies whose settings and clothing depict all walks of life\; and Kelly Garrett Rathbone whose works of mystical people and creatures combine Old Europe and modern Asian aesthetics. \n\n\n\nAll three have studied internationally and have had their works shown and collected in the U.S. and internationally. Ceramic \n\nThe program the only time that the three artists will be featured together as Rathbone's residency is ending and Gallo and Cavener will be present at LH Arts for differing time periods\, according to Ryan LaBar\, LH Projects manager. \n\nThe program will begin at 7 p.m. Admission is free.
X-ALT-DESC;FMTTYPE=text/html:<strong><span style="font-size:16px\;"><span style="color: black\;"><span style="font-family: trebuchet ms\,sans-serif\;">Special Event: International Ceramic Artists at Josephy Center on May 15</span></span></span></strong><br />\n&nbsp\;&nbsp\;&nbsp\;&nbsp\;&nbsp\;&nbsp\;&nbsp\;&nbsp\;&nbsp\; &nbsp\;<br />\n&nbsp\;&nbsp\;&nbsp\;&nbsp\;&nbsp\;&nbsp\;&nbsp\;&nbsp\;&nbsp\; <span style="color:black\;"><span style="font-family:trebuchet ms\,sans-serif\;"><span style="font-size:11.0pt\;">A special program featuring three internationally-acclaimed ceramics artists will be held at the Josephy Center for Arts and Culture\, 403 N. Main St.\, Joseph on Wed.\, May 15. </span></span></span><br />\n<br />\n<span style="color:black\;"><span style="font-family:trebuchet ms\,sans-serif\;"><span style="font-size:11.0pt\;">The artists will show examples of their works and discuss their creative processes through the &ldquo\;Artist: Live and Up Front&rdquo\; series at the center in collaboration with the nonprofit LH Arts Project near Joseph\, which offers artist in residencies in ceramics. </span></span></span><br />\n<span style="color:black\;"><span style="font-family:trebuchet ms\,sans-serif\;"><span style="font-size:11.0pt\;">Featured artists include Beth Cavener of Washington State\, who creates larger than lifesize animals in dramatic positions to reflect human emotions\; Italian artist Alessandro Gallo who sculpts animal heads on ceramic human bodies whose settings and clothing depict all walks of life\; and Kelly Garrett Rathbone whose works of mystical people and creatures combine Old Europe and modern Asian aesthetics. </span></span></span><br />\n<br />\n<span style="color:black\;"><span style="font-family:trebuchet ms\,sans-serif\;"><span style="font-size:11.0pt\;">All three have studied internationally and have had their works shown and collected in the U.S. and internationally. Ceramic </span></span></span><br />\n<span style="color:black\;"><span style="font-family:trebuchet ms\,sans-serif\;"><span style="font-size:11.0pt\;">The program the only time that the three artists will be featured together as Rathbone&rsquo\;s residency is ending and Gallo and Cavener will be present at LH Arts for differing time periods\, according to Ryan LaBar\, LH Projects manager. </span></span></span><br />\n<span style="color:black\;"><span style="font-family:trebuchet ms\,sans-serif\;"><span style="font-size:11.0pt\;">The program will begin at 7 p.m. Admission is free. </span></span></span>
LOCATION:Josephy Center\, 403 N. Main St.\, Joseph
UID:e.1631.4192
SEQUENCE:3
DTSTAMP:20260419T153517Z
URL:https://business.wallowacountychamber.com/events/details/internatioanl-ceramic-artists-at-jospehy-center-tonight-only-05-15-2013-4192
END:VEVENT

END:VCALENDAR
