BEGIN:VCALENDAR
VERSION:2.0
PRODID:-//ChamberMaster//Event Calendar 2.0//EN
METHOD:PUBLISH
X-PUBLISHED-TTL:P3D
REFRESH-INTERVAL:P3D
CALSCALE:GREGORIAN
BEGIN:VEVENT
DTSTART:20260704T190000Z
DTEND:20260704T210000Z
X-MICROSOFT-CDO-ALLDAYEVENT:FALSE
SUMMARY:Independence Day Celebrtion at Wallowa County Museum
DESCRIPTION:Come celebrate history\, heritage\, and community with us!
X-ALT-DESC;FMTTYPE=text/html:Come celebrate history\, heritage\, and community with us!
LOCATION:Wallowa County Museum\, Joseph
UID:e.1631.29415
SEQUENCE:3
DTSTAMP:20260424T222214Z
URL:https://business.wallowacountychamber.com/events/details/independence-day-celebrtion-at-wallowa-county-museum-29415
END:VEVENT

END:VCALENDAR
