BEGIN:VCALENDAR
VERSION:2.0
PRODID:-//ChamberMaster//Event Calendar 2.0//EN
METHOD:PUBLISH
X-PUBLISHED-TTL:P3D
REFRESH-INTERVAL:P3D
CALSCALE:GREGORIAN
BEGIN:VEVENT
DTSTART:20130424T020000Z
DTEND:20130424T040000Z
X-MICROSOFT-CDO-ALLDAYEVENT:FALSE
SUMMARY:"I Shutter to Think"
DESCRIPTION:Mike Hamann will present "I Shutter to Think"\, a lively photo presentation via a power point program.  He will show images from throughout Wallowa County and will describe his style and techniques.
X-ALT-DESC;FMTTYPE=text/html:Mike Hamann will present &quot\;I Shutter to Think&quot\;\, a lively photo presentation via a power point program.&nbsp\; He will show images from throughout Wallowa County and will describe his style and techniques.
LOCATION:Josephy Center for Arts & Culture\, 405 N. Main St.\, Joseph
UID:e.1631.3711
SEQUENCE:3
DTSTAMP:20260419T174752Z
URL:https://business.wallowacountychamber.com/events/details/i-shutter-to-think-04-23-2013-3711
END:VEVENT

END:VCALENDAR
