BEGIN:VCALENDAR
VERSION:2.0
PRODID:-//ChamberMaster//Event Calendar 2.0//EN
METHOD:PUBLISH
X-PUBLISHED-TTL:P3D
REFRESH-INTERVAL:P3D
CALSCALE:GREGORIAN
BEGIN:VEVENT
DTSTART:20130615T153000Z
DTEND:20130615T233000Z
X-MICROSOFT-CDO-ALLDAYEVENT:FALSE
SUMMARY:Horse Corral Work Party
DESCRIPTION:Volunteers are needed to help install horse corrals. Bring a sack lunch and tools (shovel\, bars\, fence pliers\, hammers\, smile and muscles). Coffee and cookies provided.
X-ALT-DESC;FMTTYPE=text/html:Volunteers are needed to help install horse corrals. Bring a sack lunch and tools (shovel\, bars\, fence pliers\, hammers\, smile and muscles). Coffee and cookies provided.
LOCATION:Nez Perce Homeland Site\, Wallowa
UID:e.1631.4322
SEQUENCE:3
DTSTAMP:20260419T135018Z
URL:https://business.wallowacountychamber.com/events/details/horse-corral-work-party-06-15-2013-4322
END:VEVENT

END:VCALENDAR
