BEGIN:VCALENDAR
VERSION:2.0
PRODID:-//ChamberMaster//Event Calendar 2.0//EN
METHOD:PUBLISH
X-PUBLISHED-TTL:P3D
REFRESH-INTERVAL:P3D
CALSCALE:GREGORIAN
BEGIN:VEVENT
DTSTART:20130519T230000Z
DTEND:20130520T040000Z
X-MICROSOFT-CDO-ALLDAYEVENT:FALSE
SUMMARY:Hootenanny & Shoofly Pie Social
DESCRIPTION:The Wallowa Valley Music Alliance is pleased to announce a special spring fundraising event--a Hootenanny & Shoofly Pie Social\, to be held on Sunday afternoon\, May 19 at the Enterprise Odd Fellows Hall\, 4:00 p.m. This fun-filled musical extravaganza celebrates the music of one of our local talents\, Rich Shirley\, who performed in the folk group "The Travelers 3" back in the early sixties.\n\n	\n\n	Having moved to Wallowa County about eight years ago\, Shirley has played here with various groups like "Yella Dog"\, "The Hard Top Rambler's"\, and "BC and the Mos'ly Blues Band" and has backed local jazz singer Carolyn Lochert\, to name a few.  \n\n	\n\n	The Hootenanny & Shoofly Pie Social will feature music from those early records\, plus some of the other music Rich Shirley has enjoyed playing in more recent years. There is a long list of musicians collaborating with him for this performance\, including: Heidi Muller\, Bob Webb\, Carolyn Lochert\, Janis Carper\, Laura Skovlin\, Pat Cason\, Tim Norman\, Caleb Samples\, Rusty Woods\, Brian Oliver\, and others. Homemade pie will be served at intermission.\n\n	 \n\n	Funds raised at this event support the programs of the Wallowa Valley Music Alliance\, including Musical Expressions for Youth\, Courthouse Concert Series\, Tunesmith Night\, Wallowa Fiddle Tunes Camp\,  Dulcimer Week in the Wallowas\, Old-Time Community Dance and Juniper Jam.
X-ALT-DESC;FMTTYPE=text/html:<div style="color: gray\;">\n	<span style="font-family: &quot\;Garamond&quot\;\,&quot\;serif&quot\;\; font-size: 13.5pt\; mso-fareast-font-family: Calibri\; mso-ansi-language: EN-US\; mso-fareast-language: EN-US\; mso-bidi-language: AR-SA\; mso-fareast-theme-font: minor-latin\; mso-bidi-font-family: &quot\;Times New Roman&quot\;\;"><font color="#000000">The Wallowa Valley Music Alliance is pleased to announce a special spring fundraising event--a <b>Hootenanny &amp\; Shoofly Pie Social</b>\, to be held on Sunday afternoon<b>\, May 19</b> at the <b>Enterprise Odd Fellows Hall</b>\, 4:00 p.m. This fun-filled musical extravaganza celebrates the music of one of our local talents\, <b>Rich Shirley</b>\, who performed in the folk group &ldquo\;The Travelers 3&rdquo\; back in the early sixties.<br />\n	<br />\n	<span style="font-family: &quot\;Garamond&quot\;\,&quot\;serif&quot\;\; font-size: 13.5pt\; mso-fareast-font-family: Calibri\; mso-ansi-language: EN-US\; mso-fareast-language: EN-US\; mso-bidi-language: AR-SA\; mso-fareast-theme-font: minor-latin\; mso-bidi-font-family: &quot\;Times New Roman&quot\;\;"><font color="#000000">Having moved to Wallowa County about eight years ago\, Shirley has played here with various groups like &ldquo\;Yella Dog&rdquo\;\, &ldquo\;The Hard Top Rambler&rsquo\;s&rdquo\;\, and &ldquo\;BC and the Mos&rsquo\;ly Blues Band&rdquo\; and has backed local jazz singer Carolyn Lochert\, to name a few.&nbsp\; </font></span><br />\n	<br />\n	<strong><span style="font-size: 13.5pt\;"><span style="font-family: garamond\,serif\;">The Hootenanny &amp\; Shoofly Pie Social</span></span></strong><span style="font-size: 13.5pt\;"><span style="font-family: garamond\,serif\;"> will feature music from those early records\, plus some of the other music Rich Shirley has enjoyed playing in more recent years. There is a long list of musicians collaborating with him for this performance\, including: <strong>Heidi Muller\, Bob Webb\, Carolyn Lochert\, Janis Carper\, Laura Skovlin\, Pat Cason\, Tim Norman\, Caleb Samples\, Rusty Woods\, Brian Oliver</strong>\, and others. Homemade pie will be served at intermission.</span></span><br />\n	&nbsp\;<br />\n	<span style="font-size: 13.5pt\;"><span style="font-family: garamond\,serif\;">Funds raised at this event support the programs of the <strong>Wallowa Valley Music Alliance</strong>\, including Musical Expressions for Youth\, Courthouse Concert Series\, Tunesmith Night\, Wallowa Fiddle Tunes Camp\,&nbsp\; Dulcimer Week in the Wallowas\, Old-Time Community Dance and Juniper Jam.</span></span></font></span></div>\n
LOCATION:Odd Fellows Hall\, Enterprise
UID:e.1631.3427
SEQUENCE:3
DTSTAMP:20260419T172106Z
URL:https://business.wallowacountychamber.com/events/details/hootenanny-shoofly-pie-social-05-19-2013-3427
END:VEVENT

END:VCALENDAR
