BEGIN:VCALENDAR
VERSION:2.0
PRODID:-//ChamberMaster//Event Calendar 2.0//EN
METHOD:PUBLISH
X-PUBLISHED-TTL:P3D
REFRESH-INTERVAL:P3D
CALSCALE:GREGORIAN
BEGIN:VEVENT
DTSTART;VALUE=DATE:20121130
DTEND;VALUE=DATE:20121202
TRANSP:TRANSPARENT
X-MICROSOFT-CDO-ALLDAYEVENT:TRUE
SUMMARY:Handcrafters Guild Holiday Bazaar
DESCRIPTION:This Christmas bazaar focuses on home made items and crafts. There will be home made jams\, Christmas goodies\, wood crafts\, decorations\, scarfs\, sweater and much more. Venue: Cloverleaf Hall\, Enterprise Contact: Ida Hillock Tele: 541-426-0132
X-ALT-DESC;FMTTYPE=text/html:This Christmas bazaar focuses on home made items and crafts. There will be home made jams\, Christmas goodies\, wood crafts\, decorations\, scarfs\, sweater and much more. Venue: Cloverleaf Hall\, Enterprise Contact: Ida Hillock Tele: 541-426-0132
LOCATION:
UID:e.1631.20
SEQUENCE:3
DTSTAMP:20260419T234035Z
URL:https://business.wallowacountychamber.com/events/details/handcrafters-guild-holiday-bazaar-11-30-2012-20
END:VEVENT

END:VCALENDAR
