BEGIN:VCALENDAR
VERSION:2.0
PRODID:-//ChamberMaster//Event Calendar 2.0//EN
METHOD:PUBLISH
X-PUBLISHED-TTL:P3D
REFRESH-INTERVAL:P3D
CALSCALE:GREGORIAN
BEGIN:VEVENT
DTSTART:20130712T020000Z
DTEND:20130712T040000Z
X-MICROSOFT-CDO-ALLDAYEVENT:FALSE
SUMMARY:Greece Travelogue by Jan Casey
DESCRIPTION:Jan Casey of Enterprise will present a travelogue of Greece.  Admission is by donation\; fundraiser for Wallowa County Rotary's internatinal aid efforts.
X-ALT-DESC;FMTTYPE=text/html:Jan Casey of Enterprise will present a travelogue of Greece.&nbsp\; Admission is by donation\; fundraiser for Wallowa County Rotary&#39\;s internatinal aid efforts.
LOCATION:Prairie Creek Center\, 104 Litch St.\, Enterprise
UID:e.1631.4356
SEQUENCE:3
DTSTAMP:20260419T121054Z
URL:https://business.wallowacountychamber.com/events/details/greece-travelogue-by-jan-casey-07-11-2013-4356
END:VEVENT

END:VCALENDAR
