BEGIN:VCALENDAR
VERSION:2.0
PRODID:-//ChamberMaster//Event Calendar 2.0//EN
METHOD:PUBLISH
X-PUBLISHED-TTL:P3D
REFRESH-INTERVAL:P3D
CALSCALE:GREGORIAN
BEGIN:VEVENT
DTSTART:20130518T210000Z
DTEND:20130519T010000Z
X-MICROSOFT-CDO-ALLDAYEVENT:FALSE
SUMMARY:Grand Opening for Winding Waters River Expeditions "The Boathouse"
DESCRIPTION:Winding Waters River Expeditions will have a Grand Opening for their new Boathouse Shop.  Book a rafting or fly fishing trip\, rent/buy a stand-up paddle board T-shirts\, Patagonia wear\, gifts\, river accessories & toys
X-ALT-DESC;FMTTYPE=text/html:Winding Waters River Expeditions will have a Grand Opening for their new Boathouse Shop.&nbsp\; Book a rafting or fly fishing trip\, rent/buy a stand-up paddle board T-shirts\, Patagonia wear\, gifts\, river accessories &amp\; toys
LOCATION:204 Wallowa Ave. (Quonset hut 2 blocks east of Chevron)\, Joseph
UID:e.1631.3928
SEQUENCE:3
DTSTAMP:20260419T172440Z
URL:https://business.wallowacountychamber.com/events/details/grand-opening-for-winding-waters-river-expeditions-the-boathouse-05-18-2013-3928
END:VEVENT

END:VCALENDAR
