BEGIN:VCALENDAR
VERSION:2.0
PRODID:-//ChamberMaster//Event Calendar 2.0//EN
METHOD:PUBLISH
X-PUBLISHED-TTL:P3D
REFRESH-INTERVAL:P3D
CALSCALE:GREGORIAN
BEGIN:VEVENT
DTSTART:20130405T170000Z
DTEND:20130407T010000Z
X-MICROSOFT-CDO-ALLDAYEVENT:FALSE
SUMMARY:Golf Swap and Sale
DESCRIPTION:Golf Swap and Sale.  Before the swap\, golf equipment\, clothing and accessories will be accepted  between 1-5pm on April 1-4.
X-ALT-DESC;FMTTYPE=text/html:Golf Swap and Sale.&nbsp\; Before the swap\, golf equipment\, clothing and accessories will be accepted&nbsp\; between 1-5pm on April 1-4. 
LOCATION:66098 Golf Course Rd.\, Enterprise
UID:e.1631.2744
SEQUENCE:3
DTSTAMP:20260419T172010Z
URL:https://business.wallowacountychamber.com/events/details/golf-swap-and-sale-04-05-2013-2744
END:VEVENT

END:VCALENDAR
