BEGIN:VCALENDAR
VERSION:2.0
PRODID:-//ChamberMaster//Event Calendar 2.0//EN
METHOD:PUBLISH
X-PUBLISHED-TTL:P3D
REFRESH-INTERVAL:P3D
CALSCALE:GREGORIAN
BEGIN:VEVENT
DTSTART:20130510T010000Z
DTEND:20130510T030000Z
X-MICROSOFT-CDO-ALLDAYEVENT:FALSE
SUMMARY:German Dinner Fundraiser for Exchange Student
DESCRIPTION:Calli Miller\, a sophomore at Wallowa High School is having a German dinner to help with expenses of her rotary Youth Exchange to Germany in 2013-2014.  Chuck Anderson of Alpenfest fame is coordinating the kitchen and of course\, assisting with the fun and entertainment.  The meal includes Troy Bergland's wonderful brats and sauerkraut based on Maggie Vali's recipe.  The evening will feature wonderful food and an enjoyable evening all to help Calli get on her way.
X-ALT-DESC;FMTTYPE=text/html:Calli Miller\, a sophomore at Wallowa High School is having a German dinner to help with expenses of her rotary Youth Exchange to Germany in 2013-2014.&nbsp\; Chuck Anderson of Alpenfest fame is coordinating the kitchen and of course\, assisting with the fun and entertainment.&nbsp\; The meal includes Troy Bergland&#39\;s wonderful brats and sauerkraut based on Maggie Vali&#39\;s recipe.&nbsp\; The evening will feature wonderful food and an enjoyable evening all to help Calli get on her way.
LOCATION:VFW Hall\, 800 N. Main St.
UID:e.1631.4129
SEQUENCE:3
DTSTAMP:20260419T152413Z
URL:https://business.wallowacountychamber.com/events/details/german-dinner-fundraiser-for-exchange-student-05-09-2013-4129
END:VEVENT

END:VCALENDAR
