BEGIN:VCALENDAR
VERSION:2.0
PRODID:-//ChamberMaster//Event Calendar 2.0//EN
METHOD:PUBLISH
X-PUBLISHED-TTL:P3D
REFRESH-INTERVAL:P3D
CALSCALE:GREGORIAN
BEGIN:VEVENT
DTSTART:20130317T020000Z
DTEND:20130317T040000Z
X-MICROSOFT-CDO-ALLDAYEVENT:FALSE
SUMMARY:Gail Swart & Friends
DESCRIPTION:Enjoy a special evening of exceptional music by pianist Gail Swart\, accompanied by a few other friends.  Genre of music will cover: showtime\, ragtime\, 1940's swing\, and more in an intimate cabaret setting amidst an exhibit of fine art.
X-ALT-DESC;FMTTYPE=text/html:Enjoy a special evening of exceptional music by pianist Gail Swart\, accompanied by a few other friends.&nbsp\; Genre of music will cover: showtime\, ragtime\, 1940&#39\;s swing\, and more in an intimate cabaret setting amidst an exhibit of fine art.
LOCATION:Josephy Center for Arts & Culture\, 403 N. Main St.\, Joseph
UID:e.1631.2382
SEQUENCE:3
DTSTAMP:20260419T185530Z
URL:https://business.wallowacountychamber.com/events/details/gail-swart-friends-03-16-2013-2382
END:VEVENT

END:VCALENDAR
