BEGIN:VCALENDAR
VERSION:2.0
PRODID:-//ChamberMaster//Event Calendar 2.0//EN
METHOD:PUBLISH
X-PUBLISHED-TTL:P3D
REFRESH-INTERVAL:P3D
CALSCALE:GREGORIAN
BEGIN:VEVENT
DTSTART:20130309T020000Z
DTEND:20130309T060000Z
X-MICROSOFT-CDO-ALLDAYEVENT:FALSE
SUMMARY:Fundraiser for the Ice Rink @ Lear's Main St.\, Grill
DESCRIPTION:Fundraiser for the Ice Rink @ Lear's Main St. Grill.  All proceeds from the purchase of food is donated to the Ice Rink Association.  This year Matt Harshman and his All-Star Band will be performing their tunes from 7-10pm.  this event will prove to be a great time for all ages so plan to be at Lear's.
X-ALT-DESC;FMTTYPE=text/html:Fundraiser for the Ice Rink @ Lear&#39\;s Main St. Grill.&nbsp\; All proceeds from the purchase of food is donated to the Ice Rink Association.&nbsp\; This year Matt Harshman and his All-Star Band will be performing their tunes from 7-10pm.&nbsp\; this event will prove to be a great time for all ages so plan to be at Lear&#39\;s.
LOCATION:111 W. Main St.\, Enterprise
UID:e.1631.547
SEQUENCE:3
DTSTAMP:20260419T203131Z
URL:https://business.wallowacountychamber.com/events/details/fundraiser-for-the-ice-rink-lear-s-main-st-grill-03-08-2013-547
END:VEVENT

END:VCALENDAR
