BEGIN:VCALENDAR
VERSION:2.0
PRODID:-//ChamberMaster//Event Calendar 2.0//EN
METHOD:PUBLISH
X-PUBLISHED-TTL:P3D
REFRESH-INTERVAL:P3D
CALSCALE:GREGORIAN
BEGIN:VEVENT
DTSTART:20130615T170000Z
DTEND:20130615T230000Z
X-MICROSOFT-CDO-ALLDAYEVENT:FALSE
SUMMARY:Flora School Days
DESCRIPTION:Flora School Days\, held the third Saturday in June\, is a celebration of old time skills as can be gleaned from volunteers. Annual favorites include blacksmithing\, soap-making\, silver smithing.  Musicians play old-time music throughout the day.  Besides the folk artist demonstrations\, the Pie Social\, a fund raising tradition from days of old\, and the Dutch oven lunch provide plenty of food.\n\n	Volunteers lead tours of the school and the historic town of Flora. The Country Store sells hand made items\, antiques\, and the submissions to our Brown Bag Challenge.
X-ALT-DESC;FMTTYPE=text/html:Flora School Days\, held the third Saturday in June\, is a celebration of old time skills as can be gleaned from volunteers. Annual favorites include blacksmithing\, soap-making\, silver smithing.&nbsp\; Musicians play old-time music throughout the day.&nbsp\; Besides the folk artist demonstrations\, the Pie Social\, a fund raising tradition from days of old\, and the Dutch oven lunch provide plenty of food.\n<p>\n	Volunteers lead tours of the school and the historic town of Flora. The Country Store sells hand made items\, antiques\, and the submissions to our Brown Bag Challenge.<span _fck_bookmark="1" style="display: none\;">&nbsp\;</span></p>\n
LOCATION:Flora School Education Center\, Flora
UID:e.1631.57
SEQUENCE:3
DTSTAMP:20260419T134737Z
URL:https://business.wallowacountychamber.com/events/details/flora-school-days-06-15-2013-57
END:VEVENT

END:VCALENDAR
