BEGIN:VCALENDAR
VERSION:2.0
PRODID:-//ChamberMaster//Event Calendar 2.0//EN
METHOD:PUBLISH
X-PUBLISHED-TTL:P3D
REFRESH-INTERVAL:P3D
CALSCALE:GREGORIAN
BEGIN:VEVENT
DTSTART:20130419T020000Z
DTEND:20130419T040000Z
X-MICROSOFT-CDO-ALLDAYEVENT:FALSE
SUMMARY:Fishtrap Presents: 100 Year's Later: Abigail Scott Duniway
DESCRIPTION:Judy Allen\, resident of Wallowa County and native Oregonian\, will share her research into the absorbing life of Abigail Scott Duniway whose devotion to her family and the concerns of women\, along with her writing and independent thinking\, led to her becoming the force behind the women's suffrage movement in the Northwest.
X-ALT-DESC;FMTTYPE=text/html:<em><strong>Judy Allen</strong></em>\, resident of Wallowa County and native Oregonian\, will share her research into the absorbing life of <em><strong>Abigail Scott Duniway</strong></em> whose devotion to her family and the concerns of women\, along with her writing and independent thinking\, led to her becoming the force behind the women&#39\;s suffrage movement in the Northwest.
LOCATION:Fishtrap House\, 400 E. Grant St.\, Enterprise
UID:e.1631.3708
SEQUENCE:3
DTSTAMP:20260419T172332Z
URL:https://business.wallowacountychamber.com/events/details/fishtrap-presents-100-year-s-later-abigail-scott-duniway-04-18-2013-3708
END:VEVENT

END:VCALENDAR
