BEGIN:VCALENDAR
VERSION:2.0
PRODID:-//ChamberMaster//Event Calendar 2.0//EN
METHOD:PUBLISH
X-PUBLISHED-TTL:P3D
REFRESH-INTERVAL:P3D
CALSCALE:GREGORIAN
BEGIN:VEVENT
DTSTART:20130522T173000Z
DTEND:20130522T180000Z
X-MICROSOFT-CDO-ALLDAYEVENT:FALSE
SUMMARY:Fishtrap Coffeehouse Conversations
DESCRIPTION:Every Wednesday join Ben and Ann to discuss titles from this year's Summer Fishtrap faculty at the Fishtrap Coffin House.  This week's topic is Scott Russell Sanders - A Conservationist Manifesto.
X-ALT-DESC;FMTTYPE=text/html:Every Wednesday join Ben and Ann to discuss titles from this year&#39\;s Summer Fishtrap faculty at the Fishtrap Coffin House.&nbsp\; This week&#39\;s topic is<strong><em> Scott Russell Sanders - A Conservationist Manifesto</em></strong>.
LOCATION:Fishtrap Coffin House\, 400 E. Grant Street\, Enterprise OR
UID:e.1631.4201
SEQUENCE:3
DTSTAMP:20260419T152336Z
URL:https://business.wallowacountychamber.com/events/details/fishtrap-coffeehouse-conversations-05-22-2013-4201
END:VEVENT

END:VCALENDAR
