BEGIN:VCALENDAR
VERSION:2.0
PRODID:-//ChamberMaster//Event Calendar 2.0//EN
METHOD:PUBLISH
X-PUBLISHED-TTL:P3D
REFRESH-INTERVAL:P3D
CALSCALE:GREGORIAN
BEGIN:VEVENT
DTSTART:20130705T010000Z
DTEND:20130705T060000Z
X-MICROSOFT-CDO-ALLDAYEVENT:FALSE
SUMMARY:Fireworks at Wallowa Lake
DESCRIPTION:The jewel of the Wallowa Mountains\, Wallowa Lake\, makes a perfect setting to view this classic Independence Day event. July 4th fireworks at the Lake\, near Joseph.
X-ALT-DESC;FMTTYPE=text/html:The jewel of the Wallowa Mountains\, Wallowa Lake\, makes a perfect setting to view this classic Independence Day event. July 4th fireworks at the Lake\, near Joseph.
LOCATION:At the foot of Wallowa Lake (North End)
UID:e.1631.62
SEQUENCE:3
DTSTAMP:20260419T135018Z
URL:https://business.wallowacountychamber.com/events/details/fireworks-at-wallowa-lake-07-04-2013-62
END:VEVENT

END:VCALENDAR
