BEGIN:VCALENDAR
VERSION:2.0
PRODID:-//ChamberMaster//Event Calendar 2.0//EN
METHOD:PUBLISH
X-PUBLISHED-TTL:P3D
REFRESH-INTERVAL:P3D
CALSCALE:GREGORIAN
BEGIN:VEVENT
DTSTART:20130406T170000Z
DTEND:20130406T230000Z
X-MICROSOFT-CDO-ALLDAYEVENT:FALSE
SUMMARY:Fergi Fest
DESCRIPTION:Come and join us for FERGI FEST !  There will be ski/snowboard races and the famous lawnchair race.  Events will be followed by a community potluck and music.
X-ALT-DESC;FMTTYPE=text/html:Come and join us for <strong><em>FERGI FEST !&nbsp\; </em></strong>There will be ski/snowboard races and the famous lawnchair race.&nbsp\; Events will be followed by a community potluck and music.
LOCATION:Ferguson Ridge Ski Area off end of Tucker Down Road\, east of Joseph
UID:e.1631.2745
SEQUENCE:3
DTSTAMP:20260419T170547Z
URL:https://business.wallowacountychamber.com/events/details/fergi-fest-04-06-2013-2745
END:VEVENT

END:VCALENDAR
