BEGIN:VCALENDAR
VERSION:2.0
PRODID:-//ChamberMaster//Event Calendar 2.0//EN
METHOD:PUBLISH
X-PUBLISHED-TTL:P3D
REFRESH-INTERVAL:P3D
CALSCALE:GREGORIAN
BEGIN:VEVENT
DTSTART:20130418T010000Z
DTEND:20130419T040000Z
X-MICROSOFT-CDO-ALLDAYEVENT:FALSE
SUMMARY:Exploring the Small Farm Business Dream Workshop
DESCRIPTION:Sign up now for the Exploring the Small Farm Business Dream workshop.  If you've ever dreamed of operating your very own small farm business or currently own one\, the upcoming Exploring the Small Farm Business Dream workshops will provide you with an overview of the key factors you need to consider before starting a small farm business. Join us from April 17th from 6-9pm in La Grande or April 18th from 6-9pm in Ontario to learn more about starting or growing your operation. Interest in the "Exploring the Small Farm Business" workshop in April will allow us to offer a 5-week series in 2014 called "Growing Small Farms:  Successful Whole Farm Management" by OSU Small Farms. Class is free but RSVP is required. RSVP for La Grande at 541-963-1010 or Ontario at 541-881-1417. More information at www.oregonrural.org or call Nella at 541-975-2411.
X-ALT-DESC;FMTTYPE=text/html:<div style="color: gray\;">\n	<u><span style="font-size: medium\;"><span style="font-family: calibri\;">Sign up now for the Exploring the Small Farm Business Dream workshop.</span></span></u><span style="font-size: medium\;"><span style="font-family: calibri\;">&nbsp\; </span></span><span style="font-size: 11pt\;"><span style="font-family: calibri\,sans-serif\;">If you&rsquo\;ve ever dreamed of operating your very own small farm business or currently own one\, the upcoming Exploring the Small Farm Business Dream workshops will provide you with an overview of the key factors you need to consider before starting a small farm business. Join us from April 17th from 6-9pm in La Grande or April 18th from 6-9pm in Ontario to learn more about starting or growing your operation. Interest in the &ldquo\;Exploring the Small Farm Business&rdquo\; workshop in April will allow us to offer a 5-week series in 2014 called &ldquo\;Growing Small Farms: &nbsp\;Successful Whole Farm Management&quot\; by OSU Small Farms. Class is free but RSVP is required. RSVP for La Grande at 541-963-1010 or Ontario at&nbsp\;541-881-1417. More information at </span><a href="http://www.oregonrural.org/"><span style="color: rgb(0\, 0\, 255)\;">www.oregonrural.org</span></a></span> or call Nella at 541-975-2411.</div>\n
LOCATION:La Grande\, Oregon on April 17th and on April 18th it is in Ontario\, Oregon
UID:e.1631.2749
SEQUENCE:3
DTSTAMP:20260419T185236Z
URL:https://business.wallowacountychamber.com/events/details/exploring-the-small-farm-business-dream-workshop-04-17-2013-2749
END:VEVENT

END:VCALENDAR
