BEGIN:VCALENDAR
VERSION:2.0
PRODID:-//ChamberMaster//Event Calendar 2.0//EN
METHOD:PUBLISH
X-PUBLISHED-TTL:P3D
REFRESH-INTERVAL:P3D
CALSCALE:GREGORIAN
BEGIN:VEVENT
DTSTART:20130721T010000Z
DTEND:20130721T050000Z
X-MICROSOFT-CDO-ALLDAYEVENT:FALSE
SUMMARY:Exhibit Opening Hang 'em High
DESCRIPTION:Celebrate life in the contemporary west with us as we open Hang 'Em High\, an exhibit that pays homage to the ranchers and farmers who work with the land and cattle in places like Eastern Oregon and elsewhere in the Pacific Northwest. From working cowboys to rodeo royalty\, fencing and farm chores\, tractors and saddles\, horses and herefords\, the Josephy Center is presenting a diverse display of images of ranch and agricultural work and play in today's rural West.
X-ALT-DESC;FMTTYPE=text/html:<span style="font-family:times new roman\,serif\;"><span style="font-size:12.0pt\;">Celebrate life in the contemporary west with us as we open Hang &#39\;Em High\, an exhibit that<span style="background:white\;"><span style="color:#222222\;">&nbsp\;pays homage to the ranchers and farmers who work with the land and cattle in places like Eastern Oregon and elsewhere in the Pacific Northwest.&nbsp\;From working cowboys to&nbsp\;rodeo royalty\, fencing and farm chores\, tractors and saddles\, horses and herefords\, the Josephy Center is presenting a diverse display of&nbsp\;images of ranch and agricultural work and play in today&#39\;s rural West.</span></span></span></span>
LOCATION:Josephy Center for Arts and Culture\, 403 N. Main St.\, Joseph
UID:e.1631.4364
SEQUENCE:3
DTSTAMP:20260419T134838Z
URL:https://business.wallowacountychamber.com/events/details/exhibit-opening-hang-em-high-07-20-2013-4364
END:VEVENT

END:VCALENDAR
