BEGIN:VCALENDAR
VERSION:2.0
PRODID:-//ChamberMaster//Event Calendar 2.0//EN
METHOD:PUBLISH
X-PUBLISHED-TTL:P3D
REFRESH-INTERVAL:P3D
CALSCALE:GREGORIAN
BEGIN:VEVENT
DTSTART:20130612T030000Z
DTEND:20130612T050000Z
X-MICROSOFT-CDO-ALLDAYEVENT:FALSE
SUMMARY:Eric Taylor in Concert
DESCRIPTION:Texas singer-songwriter Eric Taylor returns to Wallowa County for a solo show at the Josephy Center in Joseph\, 8 p.m. June 11. Tickets are $25 and available at The Bookloft in Enterprise. For more information call Rodd Ambroson at 541-263-1556.
X-ALT-DESC;FMTTYPE=text/html:<span style="font-family:times new roman\,serif\;"><span style="font-size:12.0pt\;">Texas singer-songwriter Eric Taylor returns to Wallowa County for a solo show at the Josephy Center in Joseph\, 8 p.m. June 11. Tickets are $25 and available at The Bookloft in Enterprise. For more information call Rodd Ambroson at 541-263-1556.</span></span>
LOCATION:Josephy Center\, 403 N. Main St.\, Joseph
UID:e.1631.4320
SEQUENCE:3
DTSTAMP:20260419T152631Z
URL:https://business.wallowacountychamber.com/events/details/eric-taylor-in-concert-06-11-2013-4320
END:VEVENT

END:VCALENDAR
