BEGIN:VCALENDAR
VERSION:2.0
PRODID:-//ChamberMaster//Event Calendar 2.0//EN
METHOD:PUBLISH
X-PUBLISHED-TTL:P3D
REFRESH-INTERVAL:P3D
CALSCALE:GREGORIAN
BEGIN:VEVENT
DTSTART;VALUE=DATE:20121207
DTEND;VALUE=DATE:20121209
TRANSP:TRANSPARENT
X-MICROSOFT-CDO-ALLDAYEVENT:TRUE
SUMMARY:Enterprise Winterfest Parade & Santa and Mrs. Claus
DESCRIPTION:Come and enjoy the beginning of the Christmas season in Enterprise. There will be special discounts at participating stores and Santa and Mrs. Claus will be here. The Holiday Lights Parade will be Friday evening and there will be lots of other family fun. For info contact: Darlene at 541-426-3025.
X-ALT-DESC;FMTTYPE=text/html:Come and enjoy the beginning of the Christmas season in Enterprise. There will be special discounts at participating stores and Santa and Mrs. Claus will be here. The Holiday Lights Parade will be Friday evening and there will be lots of other family fun. For info contact: Darlene at 541-426-3025.
LOCATION:
UID:e.1631.18
SEQUENCE:3
DTSTAMP:20260420T013002Z
URL:https://business.wallowacountychamber.com/events/details/enterprise-winterfest-parade-santa-and-mrs-claus-12-07-2012-18
END:VEVENT

END:VCALENDAR
