BEGIN:VCALENDAR
VERSION:2.0
PRODID:-//ChamberMaster//Event Calendar 2.0//EN
METHOD:PUBLISH
X-PUBLISHED-TTL:P3D
REFRESH-INTERVAL:P3D
CALSCALE:GREGORIAN
BEGIN:VEVENT
DTSTART:20130615T160000Z
DTEND:20130615T210000Z
X-MICROSOFT-CDO-ALLDAYEVENT:FALSE
SUMMARY:Enterprise Paint Recycle Collection Event
DESCRIPTION:Residents of Enterprise and surrounding areas can drop off their leftover paint to be recycled at PaintCare?s Enterprise collection event. Households are encouraged to bring any amount of paint. Businesses that generate more than 220 pounds (about 25 gallons) of oil-based paint or other hazardous waste per month have some restrictions. For an explanation of these restrictions call 855-724-6809 or go to www.paintcare.org/enterprise.
X-ALT-DESC;FMTTYPE=text/html:Residents of Enterprise and surrounding areas can drop off their leftover paint to be recycled at PaintCare?s Enterprise collection event. Households are encouraged to bring any amount of paint. Businesses that generate more than 220 pounds (about 25 gallons) of oil-based paint or other hazardous waste per month have some restrictions. For an explanation of these restrictions call 855-724-6809 or go to www.paintcare.org/enterprise.
LOCATION:Enterprise Recycling Center 207 Fish Hatchery Lane
UID:e.1631.4139
SEQUENCE:3
DTSTAMP:20260419T135049Z
URL:https://business.wallowacountychamber.com/events/details/enterprise-paint-recycle-collection-event-06-15-2013-4139
END:VEVENT

END:VCALENDAR
