BEGIN:VCALENDAR
VERSION:2.0
PRODID:-//ChamberMaster//Event Calendar 2.0//EN
METHOD:PUBLISH
X-PUBLISHED-TTL:P3D
REFRESH-INTERVAL:P3D
CALSCALE:GREGORIAN
BEGIN:VEVENT
DTSTART:20260509T170000Z
DTEND:20260509T200000Z
X-MICROSOFT-CDO-ALLDAYEVENT:FALSE
SUMMARY:Enterprise Main Street Clean Up Day
DESCRIPTION:Join Enterprise Main Street for a community camaraderie and beautification of our local Main Street. Planting flowers\, cleaning windows and sweeping streets\, many hands make light work!
X-ALT-DESC;FMTTYPE=text/html:Join Enterprise Main Street for a community camaraderie and beautification of our local Main Street. Planting flowers\, cleaning windows and sweeping streets\, many hands make light work!<br />\n&nbsp\;
LOCATION:Main Street Enterprise
UID:e.1631.29389
SEQUENCE:3
DTSTAMP:20260424T185911Z
URL:https://business.wallowacountychamber.com/events/details/enterprise-main-street-clean-up-day-29389
END:VEVENT

END:VCALENDAR
