BEGIN:VCALENDAR
VERSION:2.0
PRODID:-//ChamberMaster//Event Calendar 2.0//EN
METHOD:PUBLISH
X-PUBLISHED-TTL:P3D
REFRESH-INTERVAL:P3D
CALSCALE:GREGORIAN
BEGIN:VEVENT
DTSTART:20260502T190000Z
DTEND:20260502T230000Z
X-MICROSOFT-CDO-ALLDAYEVENT:FALSE
SUMMARY:Drug Take Back
DESCRIPTION:Drug Take Back Event at Wallowa County Sheriff's Office!
X-ALT-DESC;FMTTYPE=text/html:Drug Take Back Event at Wallowa County Sheriff&#39\;s Office!
LOCATION:Wallowa County Sheriff's Office\, Enterprise
UID:e.1631.29413
SEQUENCE:3
DTSTAMP:20260424T101543Z
URL:https://business.wallowacountychamber.com/events/details/drug-take-back-29413
END:VEVENT

END:VCALENDAR
