BEGIN:VCALENDAR
VERSION:2.0
PRODID:-//ChamberMaster//Event Calendar 2.0//EN
METHOD:PUBLISH
X-PUBLISHED-TTL:P3D
REFRESH-INTERVAL:P3D
CALSCALE:GREGORIAN
BEGIN:VEVENT
DTSTART:20130531T010000Z
DTEND:20130531T040000Z
X-MICROSOFT-CDO-ALLDAYEVENT:FALSE
SUMMARY:Drawing: Open Your Eyes and See Your World
DESCRIPTION:Summer is the perfect time to expand your vision and really appreciate the rich beauty around you in this vast\, incredible landscape we call home. The class will be held from 6:00 to 9:00 p.m.\, two nights per week\, on Wednesdays and Thursdays\, for five weeks. Classes will begin on May 15th and conclude on June 13th. Yes\,.....clear your schedule and get ready!  This class has been designed to cover most of the fundamental aspects of drawing in an orderly and cumulative fashion. In short\, all of us can learn to draw by learning to see\, by learning to overcome preconceived\, left-brained symbols of the things around us\, and by learning to gain entrance to our right brain through experience\, guidance\, and practice. See www.curtissstudios.com for a list of supplies and further class description.  Instructor:  Shelley Curtiss
X-ALT-DESC;FMTTYPE=text/html:<span style="color:black\;"><span style="font-family:arial\,sans-serif\;">Summer is the perfect time to expand your vision and really appreciate the rich beauty around you in this vast\, incredible landscape we call home. The class will be held from 6:00 to 9:00 p.m.\, two nights per week\, on Wednesdays and Thursdays\, for five weeks. Classes will begin on May 15th and conclude on June 13th. Yes\,.....clear your schedule and get ready!&nbsp\; This class has been designed to cover most of the fundamental aspects of drawing in an orderly and cumulative fashion. In short\, all of us can learn to draw by learning to see\, by learning to overcome preconceived\, left-brained symbols of the things around us\, and by learning to gain entrance to our right brain through experience\, guidance\, and practice. </span></span><strong><span style="color:black\;"><span style="font-family:calibri\,sans-serif\;">See </span></span></strong><span style="color:black\;"><span style="font-family:calibri\,sans-serif\;"><a href="http://www.curtissstudios.com"><strong><span style="color:blue\;"><span style="font-family:calibri\,sans-serif\;">www.curtissstudios.com</span></span></strong></a></span><strong><span style="font-family:calibri\,sans-serif\;"> for a list of supplies and further class description.&nbsp\; Instructor:&nbsp\; Shelley Curtiss</span></strong></span>
LOCATION:Josephy Center for Arts & Culture\, 405 N. Main St.\, Joseph
UID:e.1631.4213
SEQUENCE:3
DTSTAMP:20260419T154013Z
URL:https://business.wallowacountychamber.com/events/details/drawing-open-your-eyes-and-see-your-world-05-30-2013-4213
END:VEVENT

END:VCALENDAR
