BEGIN:VCALENDAR
VERSION:2.0
PRODID:-//ChamberMaster//Event Calendar 2.0//EN
METHOD:PUBLISH
X-PUBLISHED-TTL:P3D
REFRESH-INTERVAL:P3D
CALSCALE:GREGORIAN
BEGIN:VEVENT
DTSTART;VALUE=DATE:20260515
DTEND;VALUE=DATE:20260518
TRANSP:TRANSPARENT
X-MICROSOFT-CDO-ALLDAYEVENT:TRUE
SUMMARY:Crosscut Saw training nd Certification (A\,B\, C Bucking)
DESCRIPTION:Join us for a field-centered Crosscut sawyer class and certification course. (A\,B\,C) Friday evening and Saturday morning will be spent in the classroom\, with the rest of Saturday and Sunday spent in the field.\n\nWe will use the USFS Developing Thinking Sawyers curriculum for this training. It includes modules on how the saws work\, how to maintain and use them in the field\, to address typical situations when a tree falls across the trail. This is a bucking-only class and does not include tree-felling.\n\nVisit https://www.wmhcta.org/upcomingtrainings to register or email info@wmhcta.org for more information.
X-ALT-DESC;FMTTYPE=text/html:<div class="xdj266r x14z9mp xat24cr x1lziwak x1vvkbs" style="margin-inline: 0px\; overflow-wrap: break-word\; margin-bottom: 0px\; margin-top: 0px\; animation-name: none !important\; transition-property: none !important\; font-family: &quot\;Segoe UI Historic&quot\;\, &quot\;Segoe UI&quot\;\, Helvetica\, Arial\, sans-serif\; color: rgb(8\, 8\, 9)\; font-size: 15px\; font-style: normal\; font-variant-ligatures: normal\; font-variant-caps: normal\; font-weight: 400\; letter-spacing: normal\; orphans: 2\; text-align: start\; text-indent: 0px\; text-transform: none\; widows: 2\; word-spacing: 0px\; -webkit-text-stroke-width: 0px\; white-space: normal\; background-color: rgb(255\, 255\, 255)\; text-decoration-thickness: initial\; text-decoration-style: initial\; text-decoration-color: initial\;">Join us for a field-centered Crosscut sawyer class and certification course. (A\,B\,C) Friday evening and Saturday morning will be spent in the classroom\, with the rest of Saturday and Sunday spent in the field.</div>\n\n<div class="x14z9mp xat24cr x1lziwak x1vvkbs xtlvy1s" style="margin-inline: 0px\; overflow-wrap: break-word\; margin-bottom: 0px\; margin-top: 0.5em\; animation-name: none !important\; transition-property: none !important\; font-family: &quot\;Segoe UI Historic&quot\;\, &quot\;Segoe UI&quot\;\, Helvetica\, Arial\, sans-serif\; color: rgb(8\, 8\, 9)\; font-size: 15px\; font-style: normal\; font-variant-ligatures: normal\; font-variant-caps: normal\; font-weight: 400\; letter-spacing: normal\; orphans: 2\; text-align: start\; text-indent: 0px\; text-transform: none\; widows: 2\; word-spacing: 0px\; -webkit-text-stroke-width: 0px\; white-space: normal\; background-color: rgb(255\, 255\, 255)\; text-decoration-thickness: initial\; text-decoration-style: initial\; text-decoration-color: initial\;">We will use the USFS Developing Thinking Sawyers curriculum for this training. It includes modules on how the saws work\, how to maintain and use them in the field\, to address typical situations when a tree falls across the trail. This is a bucking-only class and does not include tree-felling.</div>\n\n<div class="x14z9mp xat24cr x1lziwak x1vvkbs xtlvy1s" style="margin-inline: 0px\; overflow-wrap: break-word\; margin-bottom: 0px\; margin-top: 0.5em\; animation-name: none !important\; transition-property: none !important\; font-family: &quot\;Segoe UI Historic&quot\;\, &quot\;Segoe UI&quot\;\, Helvetica\, Arial\, sans-serif\; color: rgb(8\, 8\, 9)\; font-size: 15px\; font-style: normal\; font-variant-ligatures: normal\; font-variant-caps: normal\; font-weight: 400\; letter-spacing: normal\; orphans: 2\; text-align: start\; text-indent: 0px\; text-transform: none\; widows: 2\; word-spacing: 0px\; -webkit-text-stroke-width: 0px\; white-space: normal\; background-color: rgb(255\, 255\, 255)\; text-decoration-thickness: initial\; text-decoration-style: initial\; text-decoration-color: initial\;">Visit<span>&nbsp\;</span><a class="x1i10hfl xjbqb8w x1ejq31n x18oe1m7 x1sy0etr xstzfhl x972fbf x10w94by x1qhh985 x14e42zd x9f619 x1ypdohk xt0psk2 x3ct3a4 xdj266r x14z9mp xat24cr x1lziwak xexx8yu xyri2b x18d9i69 x1c1uobl x16tdsg8 x1hl2dhg xggy1nq x1a2a7pz xkrqix3 x1sur9pj x1fey0fg x1s688f" href="https://www.wmhcta.org/upcomingtrainings?fbclid=IwZXh0bgNhZW0CMTAAYnJpZBExbjZXQmJQQUNpTkdhcGJaRHNydGMGYXBwX2lkEDIyMjAzOTE3ODgyMDA4OTIAAR4CuA_Dt0tYzgl5IQVxxZ3c8fXKTIK3bOsOfX1MczB0_nurxrr4j5_5vUujbg_aem_BFg6-93mtehZ4erLWcszVg" rel="nofollow noreferrer" role="link" style="color: rgb(0\, 100\, 209)\; cursor: pointer\; text-decoration: none\; outline: none\; border-inline-width: 0px\; margin-inline: 0px\; text-align: inherit\; border-inline-style: none\; padding-inline: 0px\; -webkit-tap-highlight-color: transparent\; font-weight: 600\; list-style-type: none\; box-sizing: border-box\; touch-action: manipulation\; background-color: transparent\; display: inline\; padding-bottom: 0px\; border-top-style: none\; border-bottom-width: 0px\; border-bottom-style: none\; border-top-width: 0px\; margin-bottom: 0px\; margin-top: 0px\; padding-top: 0px\; animation-name: none !important\; transition-property: none !important\; font-family: inherit\;" tabindex="0" target="_blank">https://www.wmhcta.org/upcomingtrainings</a><span>&nbsp\;</span>to register or email info@wmhcta.org for more information.</div>\n
LOCATION:
UID:e.1631.29397
SEQUENCE:3
DTSTAMP:20260424T185805Z
URL:https://business.wallowacountychamber.com/events/details/crosscut-saw-training-nd-certification-a-b-c-bucking-29397
END:VEVENT

END:VCALENDAR
