BEGIN:VCALENDAR
VERSION:2.0
PRODID:-//ChamberMaster//Event Calendar 2.0//EN
METHOD:PUBLISH
X-PUBLISHED-TTL:P3D
REFRESH-INTERVAL:P3D
CALSCALE:GREGORIAN
BEGIN:VEVENT
DTSTART;VALUE=DATE:20130514
DTEND;VALUE=DATE:20130515
TRANSP:TRANSPARENT
X-MICROSOFT-CDO-ALLDAYEVENT:TRUE
SUMMARY:Confirm Your Attendance for the Conference Call
DESCRIPTION:To participate on the monthly legislative conference calls you must confirm your attendance by calling the Wallowa County Chamber of Commerce today.
X-ALT-DESC;FMTTYPE=text/html:To participate on the monthly&nbsp\;legislative conference calls you must confirm your attendance by calling the Wallowa County Chamber of Commerce today.
LOCATION:The conferece calls will be held every 3rd Tuesday of the month at the Wallowa county \, OSU Extension Office\, 668 NW 1st St.\, Enterprise.
UID:e.1631.2390
SEQUENCE:3
DTSTAMP:20260419T172033Z
URL:https://business.wallowacountychamber.com/events/details/confirm-your-attendance-for-the-conference-call-05-14-2013-2390
END:VEVENT

END:VCALENDAR
