BEGIN:VCALENDAR
VERSION:2.0
PRODID:-//ChamberMaster//Event Calendar 2.0//EN
METHOD:PUBLISH
X-PUBLISHED-TTL:P3D
REFRESH-INTERVAL:P3D
CALSCALE:GREGORIAN
BEGIN:VEVENT
DTSTART:20130512T010000Z
DTEND:20130512T030000Z
X-MICROSOFT-CDO-ALLDAYEVENT:FALSE
SUMMARY:Community Potluck at the Lostine Tavern
DESCRIPTION:Community Potluck at the Lostine Tavern\, Saturday\, May 11th from 6-8 p.m. New local owners\, Peter Ferre and Lynne Curry\, want to hear your ideas for the reopening of the LT. We invite everyone in the community to bring a dish to share. Beverages will be provided.
X-ALT-DESC;FMTTYPE=text/html:<span style="font-family:tahoma\;"><span style="font-size: 14px\;">Community Potluck at the Lostine Tavern\, Saturday\, May 11<sup>th</sup> from 6-8 p.m. New local owners\, Peter Ferre and Lynne Curry\, want to hear your ideas for the reopening of the LT. We invite everyone in the community to bring a dish to share. Beverages will be provided.</span></span>
LOCATION:Lostine Tavern\, Main St\, Hwy 82\, Lostine
UID:e.1631.4135
SEQUENCE:3
DTSTAMP:20260419T154300Z
URL:https://business.wallowacountychamber.com/events/details/community-potluck-at-the-lostine-tavern-05-11-2013-4135
END:VEVENT

END:VCALENDAR
