BEGIN:VCALENDAR
VERSION:2.0
PRODID:-//ChamberMaster//Event Calendar 2.0//EN
METHOD:PUBLISH
X-PUBLISHED-TTL:P3D
REFRESH-INTERVAL:P3D
CALSCALE:GREGORIAN
BEGIN:VEVENT
DTSTART:20130424T160000Z
DTEND:20130504T220000Z
X-MICROSOFT-CDO-ALLDAYEVENT:FALSE
SUMMARY:Community Connecton Silent Auction
DESCRIPTION:Annual Community Connection Silent Auction in support Meals on Wheels. Donation are welcome prior to the event. Please no Clothes\, Computers or Appliances.
X-ALT-DESC;FMTTYPE=text/html:Annual Community Connection Silent Auction in support Meals on Wheels. Donation are welcome prior to the event. Please no Clothes\, Computers or Appliances.
LOCATION:Community Connection 702 NW 1st St\, Enterprise
UID:e.1631.3718
SEQUENCE:3
DTSTAMP:20260419T152524Z
URL:https://business.wallowacountychamber.com/events/details/community-connecton-silent-auction-04-24-2013-3718
END:VEVENT

END:VCALENDAR
