BEGIN:VCALENDAR
VERSION:2.0
PRODID:-//ChamberMaster//Event Calendar 2.0//EN
METHOD:PUBLISH
X-PUBLISHED-TTL:P3D
REFRESH-INTERVAL:P3D
CALSCALE:GREGORIAN
BEGIN:VEVENT
DTSTART:20130504T160000Z
DTEND:20130504T220000Z
X-MICROSOFT-CDO-ALLDAYEVENT:FALSE
SUMMARY:Community Connection Yard Sale
DESCRIPTION:The annual Community Connection fundraiser garage sale is set for Saturday May 4. The sale will be held at the VFW Hall in Enterprise. Gently used household goods will be up for sale\, and excepted for donation prior to the event. Please call if you would like to donate (no clothes\, computers or appliances please).
X-ALT-DESC;FMTTYPE=text/html:The annual Community Connection fundraiser garage sale is set for Saturday May 4. The sale will be held at the VFW Hall in Enterprise. Gently used household goods will be up for sale\, and excepted for donation prior to the event. Please call if you would like to donate (no clothes\, computers or appliances please). 
LOCATION:VFW Hall\, 800 N River St.\, Enterprise
UID:e.1631.3717
SEQUENCE:3
DTSTAMP:20260419T170902Z
URL:https://business.wallowacountychamber.com/events/details/community-connection-yard-sale-05-04-2013-3717
END:VEVENT

END:VCALENDAR
