BEGIN:VCALENDAR
VERSION:2.0
PRODID:-//ChamberMaster//Event Calendar 2.0//EN
METHOD:PUBLISH
X-PUBLISHED-TTL:P3D
REFRESH-INTERVAL:P3D
CALSCALE:GREGORIAN
BEGIN:VEVENT
DTSTART:20130801T010000Z
DTEND:20130801T020000Z
X-MICROSOFT-CDO-ALLDAYEVENT:FALSE
SUMMARY:Come Enjoy a Community Potluck to hear Plans for Alpenfest
DESCRIPTION:Come enjoy a community potluck to hear plans for the 35th edition of Alpenfest on September 26-29.\n\nIf you love Alpenfest\, want to know more\, have ideas to offer or would like to help in various ways\, please bring a dish and find out...\n\n	\n		What's new.\n	\n		Which old favorites are returning this year.\n	\n		How Alpenfest is expanding\n	\n		What others have to suggest.
X-ALT-DESC;FMTTYPE=text/html:<em><strong><span style="font-size:16px\;"><span style="font-family: verdana\;">Come enjoy a <span style="color:#ff0000\;">community potluck</span> to hear plans for the 35th edition of Alpenfest on September 26-29</span></span></strong></em>.<br />\n<span style="font-size:14px\;"><span style="font-family: verdana\;">If you love Alpenfest\, want to know more\, have ideas to offer or would like to help in various ways\, please bring a dish and find out...</span></span>\n<ul>\n	<li>\n		<span style="font-size:14px\;"><span style="font-family: verdana\;">What&#39\;s new.</span></span></li>\n	<li>\n		<span style="font-size:14px\;"><span style="font-family: verdana\;">Which old favorites are returning this year.</span></span></li>\n	<li>\n		<span style="font-size:14px\;"><span style="font-family: verdana\;">How Alpenfest is expanding</span></span></li>\n	<li>\n		<span style="font-size:14px\;"><span style="font-family: verdana\;">What others have to suggest.</span></span></li>\n</ul>\n
LOCATION:Edelweiss Inn at the Wallowa Lake Tramway
UID:e.1631.4408
SEQUENCE:3
DTSTAMP:20260419T121553Z
URL:https://business.wallowacountychamber.com/events/details/come-enjoy-a-community-potluck-to-hear-plans-for-alpenfest-07-31-2013-4408
END:VEVENT

END:VCALENDAR
