BEGIN:VCALENDAR
VERSION:2.0
PRODID:-//ChamberMaster//Event Calendar 2.0//EN
METHOD:PUBLISH
X-PUBLISHED-TTL:P3D
REFRESH-INTERVAL:P3D
CALSCALE:GREGORIAN
BEGIN:VEVENT
DTSTART:20130331T020000Z
DTEND:20130331T050000Z
X-MICROSOFT-CDO-ALLDAYEVENT:FALSE
SUMMARY:"Collections!: Exhibit at the Josephy Center for Arts and Culture
DESCRIPTION:Opening Event: "Collections!: Exhibit at the Josephy Center for Arts and Culture. Art\, antiques and eclectic items collected by many Wallowa County residents\; no-host bar\, hors d'oeuvres\, and a special collection of musicians. All are welcome\; admission by donation ($5 suggested). The exhibit includes fine art to folk art\, Old West items\, Indian artifacts\, antiques of all types\, bronze sculpture\, heritage dolls\, African carvings\, photography collections\, vintage advertising memorabilia of Wallowa County. Come and see the unexpected! Exhibit in place through Sunday\, April 21.
X-ALT-DESC;FMTTYPE=text/html:&nbsp\;<br />\n<span style="font-family: times new roman\;"><strong><span style="font-size: 11pt\;"><span style="color: black\;">Opening Event: &ldquo\;Collections!: Exhibit at the </span></span></strong></span><span style="font-family: times new roman\;"><strong><span style="font-size: 11pt\;"><span style="color: black\;">Josephy Center for Arts and Culture. </span></span></strong></span><span style="font-size: 11pt\;"><span style="font-family: times new roman\,serif\;"><span style="color: black\;">Art\, antiques and eclectic items collected by many Wallowa County residents\; no-host bar\, hors d&rsquo\;oeuvres\, and a special collection of musicians. All are welcome\; admission by donation ($5 suggested). The exhibit includes fine art to folk art\, Old West items\, Indian artifacts\, antiques of all types\, bronze sculpture\, heritage dolls\, African carvings\, photography collections\, vintage advertising memorabilia of Wallowa County. Come and see the unexpected! Exhibit in place through Sunday\, April 21. </span></span></span>
LOCATION:Josephy Center for Arts & Culture\, 403 N. Main St.\, Joseph
UID:e.1631.2750
SEQUENCE:3
DTSTAMP:20260419T190107Z
URL:https://business.wallowacountychamber.com/events/details/collections-exhibit-at-the-josephy-center-for-arts-and-culture-03-30-2013-2750
END:VEVENT

END:VCALENDAR
