BEGIN:VCALENDAR
VERSION:2.0
PRODID:-//ChamberMaster//Event Calendar 2.0//EN
METHOD:PUBLISH
X-PUBLISHED-TTL:P3D
REFRESH-INTERVAL:P3D
CALSCALE:GREGORIAN
BEGIN:VEVENT
DTSTART:20130712T020000Z
DTEND:20130712T040000Z
X-MICROSOFT-CDO-ALLDAYEVENT:FALSE
SUMMARY:Cinema Night: "Captive City"
DESCRIPTION:"Captive City" with screenplay by Alvin Josephy Jr.\, This classic film-noir stars John Forsythe.
X-ALT-DESC;FMTTYPE=text/html:&quot\;Captive City&quot\; with screenplay by Alvin Josephy Jr.\, This classic film-noir stars John Forsythe.
LOCATION:Jospehy Center for Arts and Culture\, 413 N. Main St.\, Joseph
UID:e.1631.4358
SEQUENCE:3
DTSTAMP:20260419T121100Z
URL:https://business.wallowacountychamber.com/events/details/cinema-night-captive-city-07-11-2013-4358
END:VEVENT

END:VCALENDAR
