BEGIN:VCALENDAR
VERSION:2.0
PRODID:-//ChamberMaster//Event Calendar 2.0//EN
METHOD:PUBLISH
X-PUBLISHED-TTL:P3D
REFRESH-INTERVAL:P3D
CALSCALE:GREGORIAN
BEGIN:VEVENT
DTSTART:20130307T210000Z
DTEND:20130309T230000Z
X-MICROSOFT-CDO-ALLDAYEVENT:FALSE
SUMMARY:Children's Art Activities
DESCRIPTION:Free art activities for area children and youth of all ages will be offered on Thurs.\, March 7 from 1-3 p.m. and on Fri.\, March 8 and Sat.\, March 9 from 10 a.m. to noon and again from 1-3 p.m. Attendees will have a choice of creating a landscape in pastel in the Center's art studio or copying a favorite painting with colored pencil in the exhibit gallery. Materials will be provided.  Coordinated by Kathy Drake.
X-ALT-DESC;FMTTYPE=text/html:<div style="color: gray\;">\n	<span style="font-size: 14px\;">Free art activities for area children and youth of all ages will be offered on Thurs.\, March 7 from 1-3 p.m. and on Fri.\, March 8 and Sat.\, March 9 from 10 a.m. to noon and again from 1-3 p.m. Attendees will <span style="font-size: 16px\;"><strong><span style="color: rgb(8\, 0\, 0)\; font-family: &quot\;Calibri&quot\;\,&quot\;sans-serif&quot\;\; font-weight: normal\;">have a choice of creating a landscape in pastel in the Center&#39\;s art studio or copying a favorite painting with colored pencil in the exhibit gallery. Materials will be provided.&nbsp\; Coordinated by Kathy Drake.</span></strong></span></span></div>\n
LOCATION:Joseph Center for Arts & Culture.\, 403 N. Main St.\, Joseph
UID:e.1631.2379
SEQUENCE:3
DTSTAMP:20260419T185432Z
URL:https://business.wallowacountychamber.com/events/details/children-s-art-activities-03-07-2013-2379
END:VEVENT

END:VCALENDAR
