BEGIN:VCALENDAR
VERSION:2.0
PRODID:-//ChamberMaster//Event Calendar 2.0//EN
METHOD:PUBLISH
X-PUBLISHED-TTL:P3D
REFRESH-INTERVAL:P3D
CALSCALE:GREGORIAN
BEGIN:VEVENT
DTSTART:20260506T010000Z
DTEND:20260506T030000Z
X-MICROSOFT-CDO-ALLDAYEVENT:FALSE
SUMMARY:Child Care Town Hall
DESCRIPTION:Learn how to start a child care business and discover supports available to Wallowa County! Dinner and Child Care available!
X-ALT-DESC;FMTTYPE=text/html:Learn how to start a child care business and discover supports available to Wallowa County! Dinner and Child Care available!
LOCATION:Wild Rm\, Wallowa ESD\, 170 SW 1st.\, Enterprise
UID:e.1631.29362
SEQUENCE:3
DTSTAMP:20260424T185805Z
URL:https://business.wallowacountychamber.com/events/details/child-care-town-hall-29362
END:VEVENT

END:VCALENDAR
