BEGIN:VCALENDAR
VERSION:2.0
PRODID:-//ChamberMaster//Event Calendar 2.0//EN
METHOD:PUBLISH
X-PUBLISHED-TTL:P3D
REFRESH-INTERVAL:P3D
CALSCALE:GREGORIAN
BEGIN:VEVENT
DTSTART:20130428T010000Z
DTEND:20130428T060000Z
X-MICROSOFT-CDO-ALLDAYEVENT:FALSE
SUMMARY:Chief Joseph Days Coronation Dinner
DESCRIPTION:Chief Joseph Days Queen Coronation and dinner.  Social hour begins at 6:00pm\, Dinner at 7:00pm and coronation of the queen will be at 9:00pm.  The dinner is catered by T&T and music is by The Jimmy Bivins Band.
X-ALT-DESC;FMTTYPE=text/html:Chief Joseph Days Queen Coronation and dinner.&nbsp\; Social hour begins at 6:00pm\, Dinner at 7:00pm and coronation of the queen will be at 9:00pm.&nbsp\; The dinner is catered by T&amp\;T and music is by <strong><em>The Jimmy Bivins Band.</em></strong>
LOCATION:Joseph Community Center\, 102 E. 1st St.\, Joseph
UID:e.1631.2746
SEQUENCE:3
DTSTAMP:20260419T170855Z
URL:https://business.wallowacountychamber.com/events/details/chief-joseph-days-coronation-dinner-04-27-2013-2746
END:VEVENT

END:VCALENDAR
