BEGIN:VCALENDAR
VERSION:2.0
PRODID:-//ChamberMaster//Event Calendar 2.0//EN
METHOD:PUBLISH
X-PUBLISHED-TTL:P3D
REFRESH-INTERVAL:P3D
CALSCALE:GREGORIAN
BEGIN:VEVENT
DTSTART:20260521T190000Z
DTEND:20260521T203000Z
X-MICROSOFT-CDO-ALLDAYEVENT:FALSE
SUMMARY:Chamber Board of Directors Meeting - May 2026
DESCRIPTION:May 2026 Chamber Board Meeting\n\n\n\nLocation: This is a Zoom web conference. You can join this meeting from your computer\, tablet\, or smartphone. \n\n\n\nhttps://us06web.zoom.us/j/87889487753?pwd=RZaIwMHkyIusQLgUIQXFL3F5AmjNL7.1\n\n\n\nPassword: 337706\n\n\n\nOne tap mobile:\n\n+1 305 224 1968\,\,87889487753#\n\n+1 309 205 3325\,\,87889487753#
X-ALT-DESC;FMTTYPE=text/html:<span style="color: rgb(31\, 31\, 31)\; font-family: &quot\;Google Sans&quot\;\, Roboto\, Arial\, sans-serif\; font-size: 14px\; font-variant-ligatures: no-contextual\; white-space-collapse: preserve\; background-color: rgb(240\, 244\, 249)\;">May 2026 Chamber Board Meeting<br />\n<br />\nLocation: This is a Zoom web conference. You can join this meeting from your computer\, tablet\, or smartphone. </span><br />\n<br />\n<a href="https://www.google.com/url?q=https://us06web.zoom.us/j/87889487753?pwd%3DRZaIwMHkyIusQLgUIQXFL3F5AmjNL7.1&amp\;sa=D&amp\;source=calendar&amp\;usd=2&amp\;usg=AOvVaw2O8AELA9p0FKXsuohmOwTc" style="color: rgb(11\, 87\, 208)\; font-family: &quot\;Google Sans&quot\;\, Roboto\, Arial\, sans-serif\; font-size: 14px\; font-variant-ligatures: no-contextual\; white-space-collapse: preserve\; background-color: rgb(240\, 244\, 249)\;" target="_blank">https://us06web.zoom.us/j/87889487753?pwd=RZaIwMHkyIusQLgUIQXFL3F5AmjNL7.1</a><span style="color: rgb(31\, 31\, 31)\; font-family: &quot\;Google Sans&quot\;\, Roboto\, Arial\, sans-serif\; font-size: 14px\; font-variant-ligatures: no-contextual\; white-space-collapse: preserve\; background-color: rgb(240\, 244\, 249)\;"><br />\n<br />\nPassword: 337706<br />\n<br />\nOne tap mobile:<br />\n+1 305 224 1968\,\,87889487753#<br />\n+1 309 205 3325\,\,87889487753#</span>
LOCATION:Zoom Meeting
UID:e.1631.29364
SEQUENCE:3
DTSTAMP:20260424T185822Z
URL:https://business.wallowacountychamber.com/events/details/chamber-board-of-directors-meeting-may-2026-29364
END:VEVENT

END:VCALENDAR
