BEGIN:VCALENDAR
VERSION:2.0
PRODID:-//ChamberMaster//Event Calendar 2.0//EN
METHOD:PUBLISH
X-PUBLISHED-TTL:P3D
REFRESH-INTERVAL:P3D
CALSCALE:GREGORIAN
BEGIN:VEVENT
DTSTART:20130619T210000Z
DTEND:20130619T223000Z
X-MICROSOFT-CDO-ALLDAYEVENT:FALSE
SUMMARY:Brass @ Wallowa Lake
DESCRIPTION:We provide a high quality chamber music camp for middle and high school brass instrument musicians.  We feature members of the Oregon Symphonic Orchestra as faculty Artist mentors. There will be a public end-of-camp concert Saturday\, June 22\, beginning at 1:00 pm.
X-ALT-DESC;FMTTYPE=text/html:We provide a high quality chamber music camp for middle and high school brass instrument musicians. &nbsp\;We feature members of the Oregon Symphonic Orchestra as faculty Artist mentors. There will be a public end-of-camp concert Saturday\, June 22\, beginning at 1:00 pm. 
LOCATION:Wallowa Lake Methodist Camp
UID:e.1631.4302
SEQUENCE:3
DTSTAMP:20260419T135000Z
URL:https://business.wallowacountychamber.com/events/details/brass-wallowa-lake-06-19-2013-4302
END:VEVENT

END:VCALENDAR
