BEGIN:VCALENDAR
VERSION:2.0
PRODID:-//ChamberMaster//Event Calendar 2.0//EN
METHOD:PUBLISH
X-PUBLISHED-TTL:P3D
REFRESH-INTERVAL:P3D
CALSCALE:GREGORIAN
BEGIN:VEVENT
DTSTART:20130616T020000Z
DTEND:20130616T050000Z
X-MICROSOFT-CDO-ALLDAYEVENT:FALSE
SUMMARY:Brady Goss Live and in Person at Lear's Pub & Grill
DESCRIPTION:June 15\, 2013 @ 7:00 PM Brady Goss will be appearing live and in person at Lear's Pub & Grill. \n\nBrady is a Memphis Recording Artist ( piano & vocals) who has been  described from an early age as a piano phenom.  Today he is recognized as an electrifying entertainer.  Those who have witnessed his live shows are awed by his formidable keyboard speed and soulful vocals loaded with passion that keep fans of all ages wanting more.  \n\n \n\n$ 10.00 cover charge.\n\n \n\nDoors will open at 5:30 PM for dinner\n\n \n\nReservations strongly suggested.
X-ALT-DESC;FMTTYPE=text/html:<em><span style="font-size:14px\;"><strong>June 15\, 2013 @ 7:00 PM Brady Goss will be appearing live and in person at Lear&rsquo\;s Pub &amp\; Grill. </strong><br />\n<strong>Brady is a Memphis Recording Artist ( piano &amp\; vocals) who has been &nbsp\;described from an early age as a piano phenom.&nbsp\; Today he is recognized as an electrifying entertainer.&nbsp\; Those who have witnessed his live shows are awed by his formidable keyboard speed and soulful vocals loaded with passion that keep fans of all ages wanting more.&nbsp\; </strong><br />\n&nbsp\;<br />\n<strong>$ 10.00 cover charge.</strong><br />\n&nbsp\;<br />\n<strong>Doors will open at 5:30 PM for dinner</strong><br />\n&nbsp\;<br />\n<strong>Reservations strongly suggested.&nbsp\; </strong></span></em>
LOCATION:Lear's Pub & Grill\, 111 W. Main St.\, Enterprise
UID:e.1631.4328
SEQUENCE:3
DTSTAMP:20260419T135433Z
URL:https://business.wallowacountychamber.com/events/details/brady-goss-live-and-in-person-at-lear-s-pub-grill-06-15-2013-4328
END:VEVENT

END:VCALENDAR
